BEGIN:VCALENDAR
VERSION:2.0
PRODID:-//Club de Ajedrez C&iacute;rculo Mercantil de Castell&oacute;n - ECPv4.9.10//NONSGML v1.0//EN
CALSCALE:GREGORIAN
METHOD:PUBLISH
X-WR-CALNAME:Club de Ajedrez C&iacute;rculo Mercantil de Castell&oacute;n
X-ORIGINAL-URL:https://www.ajedrezcastellon.club
X-WR-CALDESC:Eventos para Club de Ajedrez C&iacute;rculo Mercantil de Castell&oacute;n
BEGIN:VTIMEZONE
TZID:Europe/Madrid
BEGIN:DAYLIGHT
TZOFFSETFROM:+0100
TZOFFSETTO:+0200
TZNAME:CEST
DTSTART:20190331T010000
END:DAYLIGHT
BEGIN:STANDARD
TZOFFSETFROM:+0200
TZOFFSETTO:+0100
TZNAME:CET
DTSTART:20191027T010000
END:STANDARD
END:VTIMEZONE
BEGIN:VEVENT
DTSTART;TZID=Europe/Madrid:20190913T173000
DTEND;TZID=Europe/Madrid:20190913T193000
DTSTAMP:20260422T031220
CREATED:20190910T212143Z
LAST-MODIFIED:20190910T212143Z
UID:2665-1568395800-1568403000@www.ajedrezcastellon.club
SUMMARY:Torneo Masnou Escuela Club Círculo Mercantil
DESCRIPTION:\n    \n
URL:https://www.ajedrezcastellon.club/evento/torneo-masnou-escuela-club-circulo-mercantil/
LOCATION:Club de Ajedrez Círculo Mercantil de Castellón\, C/ Echegaray 1\, bajo\, Castellón\, 12001\, España
CATEGORIES:Eventos Club,Torneo Club
ATTACH;FMTTYPE=image/png:https://www.ajedrezcastellon.club/wp-content/uploads/2019/09/masnou_130919.png
ORGANIZER;CN="Club%20de%20Ajedrez%20C%C3%ADrculo%20Mercantil%20de%20Castell%C3%B3n":MAILTO:info@ajedrezcastellon.club
END:VEVENT
END:VCALENDAR