BEGIN:VCALENDAR
VERSION:2.0
PRODID:-//Club de Ajedrez C&iacute;rculo Mercantil de Castell&oacute;n - ECPv4.9.10//NONSGML v1.0//EN
CALSCALE:GREGORIAN
METHOD:PUBLISH
X-WR-CALNAME:Club de Ajedrez C&iacute;rculo Mercantil de Castell&oacute;n
X-ORIGINAL-URL:https://www.ajedrezcastellon.club
X-WR-CALDESC:Eventos para Club de Ajedrez C&iacute;rculo Mercantil de Castell&oacute;n
BEGIN:VTIMEZONE
TZID:Europe/Madrid
BEGIN:DAYLIGHT
TZOFFSETFROM:+0100
TZOFFSETTO:+0200
TZNAME:CEST
DTSTART:20190331T010000
END:DAYLIGHT
BEGIN:STANDARD
TZOFFSETFROM:+0200
TZOFFSETTO:+0100
TZNAME:CET
DTSTART:20191027T010000
END:STANDARD
END:VTIMEZONE
BEGIN:VEVENT
DTSTART;TZID=Europe/Madrid:20191001T171500
DTEND;TZID=Europe/Madrid:20191001T200000
DTSTAMP:20260424T071644
CREATED:20190820T234020Z
LAST-MODIFIED:20190914T150702Z
UID:2486-1569950100-1569960000@www.ajedrezcastellon.club
SUMMARY:Inicio de las clases del curso 2019/2020
DESCRIPTION:Resumen del horario\, más información aquí. \n\n    \n
URL:https://www.ajedrezcastellon.club/evento/inicio-de-las-clases-del-curso-2019-2020/
LOCATION:Club de Ajedrez Círculo Mercantil de Castellón\, C/ Echegaray 1\, bajo\, Castellón\, 12001\, España
CATEGORIES:Eventos Club
ORGANIZER;CN="Club%20de%20Ajedrez%20C%C3%ADrculo%20Mercantil%20de%20Castell%C3%B3n":MAILTO:info@ajedrezcastellon.club
END:VEVENT
END:VCALENDAR